BEGIN:VCALENDAR
VERSION:2.0
PRODID:-//Green Valley Country Club - Portsmouth, RI - ECPv6.15.20//NONSGML v1.0//EN
CALSCALE:GREGORIAN
METHOD:PUBLISH
X-ORIGINAL-URL:https://gvccri.com
X-WR-CALDESC:Events for Green Valley Country Club - Portsmouth, RI
REFRESH-INTERVAL;VALUE=DURATION:PT1H
X-Robots-Tag:noindex
X-PUBLISHED-TTL:PT1H
BEGIN:VTIMEZONE
TZID:UTC
BEGIN:STANDARD
TZOFFSETFROM:+0000
TZOFFSETTO:+0000
TZNAME:UTC
DTSTART:20250101T000000
END:STANDARD
END:VTIMEZONE
BEGIN:VEVENT
DTSTART;TZID=UTC:20260304T180000
DTEND;TZID=UTC:20260304T193000
DTSTAMP:20260419T123835
CREATED:20260104T183032Z
LAST-MODIFIED:20260211T204359Z
UID:10000051-1772647200-1772652600@gvccri.com
SUMMARY:GVGA Board Meeting
DESCRIPTION:Location: Remote
URL:https://gvccri.com/event/gvga-board-meeting-3/
CATEGORIES:Board
END:VEVENT
END:VCALENDAR